BEGIN:VCALENDAR
VERSION:2.0
CALSCALE:GREGORIAN
PRODID:-//Diputació de Barcelona//DibaCMS//EN
BEGIN:VEVENT
UID:8530
DTSTAMP:20260420T031547
DTSTART:20240508T110000
DTEND:20240508T130000
SUMMARY:Relació de llocs de treball (RLT)
LOCATION:carrer de les Escoles, 2 08359 Sant Iscle de Vallalta
METHOD:PUBLISH
X-WR-CALNAME:st.iscle@santiscle.cat
X-WR-TIMEZONE:Europe/Madrid
DESCRIPTION:
URI:https://www.santiscle.cat/ajuntament/govern/agenda-politica/relacio-de-llocs-de-treball-rlt.html
CLASS:PUBLIC
END:VEVENT
END:VCALENDAR
