BEGIN:VCALENDAR
VERSION:2.0
CALSCALE:GREGORIAN
PRODID:-//Diputació de Barcelona//DibaCMS//EN
BEGIN:VEVENT
UID:8787
DTSTAMP:20260419T224933
DTSTART:20240917T100000
DTEND:20240917T110000
SUMMARY:Reunió amb l'Associació de la Gent Gran
LOCATION:carrer de les Escoles, 2 08359 Sant Iscle de Vallalta
METHOD:PUBLISH
X-WR-CALNAME:st.iscle@santiscle.cat
X-WR-TIMEZONE:Europe/Madrid
DESCRIPTION:
URI:https://www.santiscle.cat/ajuntament/govern/agenda-politica/reunio-amb-lassociacio-de-la-gent-gran.html
CLASS:PUBLIC
END:VEVENT
END:VCALENDAR
