BEGIN:VCALENDAR
VERSION:2.0
CALSCALE:GREGORIAN
PRODID:-//Diputació de Barcelona//DibaCMS//EN
BEGIN:VEVENT
UID:9490
DTSTAMP:20260426T020250
DTSTART:20260122T113000
DTEND:20260122T140000
SUMMARY:Bibliobús Montnegre  
LOCATION:Carrer de les Escoles, davant l'Ajuntament 
METHOD:PUBLISH
X-WR-CALNAME:st.iscle@santiscle.cat
X-WR-TIMEZONE:Europe/Madrid
DESCRIPTION:Aquest dijous 22 de gener, no hi haurà servei del Bibliobús Montnegre degut a una incidència del vehicle.

Disculpeu les molèsties!

URI:https://www.santiscle.cat/actualitat/agenda/9490-bibliobus-montnegre-.html
CLASS:PUBLIC
END:VEVENT
END:VCALENDAR
