BEGIN:VCALENDAR
VERSION:2.0
CALSCALE:GREGORIAN
PRODID:-//Diputació de Barcelona//DibaCMS//EN
BEGIN:VEVENT
UID:9563
DTSTAMP:20260424T160705
DTSTART:20260427T183000
DTEND:20260427T190000
SUMMARY:Convocatòria del Ple de la Corporació
LOCATION:carrer de les Escoles, 2 08359 Sant Iscle de Vallalta
METHOD:PUBLISH
X-WR-CALNAME:st.iscle@santiscle.cat
X-WR-TIMEZONE:Europe/Madrid
DESCRIPTION:ORDRE DEL DIA 

1r PUNT. Aprovació de l’acta de la sessió ordinària de data 16 de març de 2026 del Ple de la Corporació (PLE 2026/3)

2n PUNT. Acord de l’ajuntament de sant Iscle de Vallalta per tal de delegar, modificar i alhora especificar les funcions de gestió, inspecció i recaptació de determinats tributs i altres ingressos de dret públic, delegades a favor de la Diputació de Barcelona (Exp. 2026/534).

3r PUNT. Aprovació de la modificació de les bases generals per l’atorgament d’ajuts individuals de caràcter social de l’Ajuntament de sant Iscle de Vallalta, durant l’any 2026 (Exp. 2026/355).

4t PUNT. Aprovació del projecte per la substitució de la coberta de plaques de fibrociment, amb amiant, en l’edifici del Casal de Sant Iscle de Vallalta (Exp. 2026/450)

5è PUNT. Aprovació inicial modificació reglament del servei d’aigua de l’Ajuntament de Sant Iscle de Vallalta.

6è PUNT. Requeriment al Consell Comarcal del Maresme per tal que reconegui la seva titularitat en relació amb l’artèria d’abastament d’aigua en alta, que arranca de l’estació de sobreelevació número 3, o de la creueta, situada al terme municipal d’Arenys de Munt i que arriba fins al dipòsit municipal de l’Ajuntament de Sant Iscle de Vallalta (Exp. 2026/583).

7è PUNT. Aprovació inicial de l’estudi preliminar de la liquidació del contacte de concessió del servei municipal d’abastament d’aigua entre l’Ajuntament de Sant Iscle de Vallalta i l’empresa SOREA, Sociedad Regional de Abastecimientos de Aguas, S.A. (Exp. 2024/707).

8è PUNT. Aprovació del conveni de delegació de competències de l’Ajuntament de sant Iscle de Vallalta a favor del Consell Comarcal del Maresme, per la prestació del servei en matèria de recollida i transport de residus (Exp. 2026/538).

9è PUNT. Aprovació del pressupost del l’exercici 2026, bases d’execució i plantilla de personal (Exp. 2026/391)




US RECORDEM QUE LES SESSIONS DE PLE SÓN PÚBLIQUES 

 

URI:https://www.santiscle.cat/actualitat/agenda/9563-convocatoria-del-ple-de-la-corporacio.html
CLASS:PUBLIC
END:VEVENT
END:VCALENDAR
